BEGIN:VCALENDAR
VERSION:2.0
PRODID:-//FLP-Niehe.de - ECPv4.7.1//NONSGML v1.0//EN
CALSCALE:GREGORIAN
METHOD:PUBLISH
X-WR-CALNAME:FLP-Niehe.de
X-ORIGINAL-URL:http://backup.flp-niehe.de
X-WR-CALDESC:Veranstaltungen für FLP-Niehe.de
BEGIN:VEVENT
DTSTART;TZID=UTC+2:20160629T200000
DTEND;TZID=UTC+2:20160629T220000
DTSTAMP:20260424T104441
CREATED:20160127T203212Z
LAST-MODIFIED:20160127T203212Z
UID:3305-1467230400-1467237600@backup.flp-niehe.de
SUMMARY:Reiki - Abend
DESCRIPTION:Ein regelmäßig im zweiwöchigen Abstand stattfindendes Angebot zum kennenlernen und praktizieren von Reiki. Zum Austauschen\, Reden\, Meditieren\, Fragen stellen. \nAlle die Reiki kennenlernen wollen und alle\, die bereits Reiki anwenden\, sind herzlich willkommen. \n
URL:http://backup.flp-niehe.de/event/reiki-abend-12/
LOCATION:Praxisräume Papenburg\, Hauptkanal links 79a\, Papenburg\, 26871\, Deutschland
CATEGORIES:Reiki
ORGANIZER;CN="FLP-Niehe":MAILTO:info@FLP-Niehe.de
END:VEVENT
END:VCALENDAR