BEGIN:VCALENDAR
VERSION:2.0
PRODID:-//FLP-Niehe.de - ECPv4.7.1//NONSGML v1.0//EN
CALSCALE:GREGORIAN
METHOD:PUBLISH
X-WR-CALNAME:FLP-Niehe.de
X-ORIGINAL-URL:http://backup.flp-niehe.de
X-WR-CALDESC:Veranstaltungen für FLP-Niehe.de
BEGIN:VEVENT
DTSTART;TZID=UTC+2:20160429T200000
DTEND;TZID=UTC+2:20160429T220000
DTSTAMP:20260425T170850
CREATED:20160411T141919Z
LAST-MODIFIED:20160411T142304Z
UID:3426-1461960000-1461967200@backup.flp-niehe.de
SUMMARY:Beobachter Familienaufstellung
DESCRIPTION:Wer möchte am 29 April um 20 Uhr als Beobachter an einer Familienaufstellung in Papenburg Teilnehmen\, es werden keine Vorkenntnisse gebraucht! Ein Angebot für Menschen immer schon mal wollten aber sich nicht getraut haben. Der Abend ist Kostenfrei! Anmeldung bis Mittwoch den 26 April 2016 bei Robert Gerhard Niehe Telefon 04961 – 768354 \n
URL:http://backup.flp-niehe.de/event/beobachter-familienaufstellung-4/
LOCATION:Praxisräume Papenburg\, Hauptkanal links 79a\, Papenburg\, 26871\, Deutschland
CATEGORIES:Familienaufstellung
ORGANIZER;CN="FLP-Niehe":MAILTO:info@FLP-Niehe.de
END:VEVENT
END:VCALENDAR